BEGIN:VCALENDAR
VERSION:2.0
PRODID:-//Invalsesia con Monica - ECPv6.15.20//NONSGML v1.0//EN
CALSCALE:GREGORIAN
METHOD:PUBLISH
X-WR-CALNAME:Invalsesia con Monica
X-ORIGINAL-URL:https://invalsesia.conmonica.it
X-WR-CALDESC:Eventi per Invalsesia con Monica
REFRESH-INTERVAL;VALUE=DURATION:PT1H
X-Robots-Tag:noindex
X-PUBLISHED-TTL:PT1H
BEGIN:VTIMEZONE
TZID:Europe/Rome
BEGIN:DAYLIGHT
TZOFFSETFROM:+0100
TZOFFSETTO:+0200
TZNAME:CEST
DTSTART:20240331T010000
END:DAYLIGHT
BEGIN:STANDARD
TZOFFSETFROM:+0200
TZOFFSETTO:+0100
TZNAME:CET
DTSTART:20241027T010000
END:STANDARD
BEGIN:DAYLIGHT
TZOFFSETFROM:+0100
TZOFFSETTO:+0200
TZNAME:CEST
DTSTART:20250330T010000
END:DAYLIGHT
BEGIN:STANDARD
TZOFFSETFROM:+0200
TZOFFSETTO:+0100
TZNAME:CET
DTSTART:20251026T010000
END:STANDARD
BEGIN:DAYLIGHT
TZOFFSETFROM:+0100
TZOFFSETTO:+0200
TZNAME:CEST
DTSTART:20260329T010000
END:DAYLIGHT
BEGIN:STANDARD
TZOFFSETFROM:+0200
TZOFFSETTO:+0100
TZNAME:CET
DTSTART:20261025T010000
END:STANDARD
END:VTIMEZONE
BEGIN:VEVENT
DTSTART;VALUE=DATE:20251011
DTEND;VALUE=DATE:20251012
DTSTAMP:20260423T102549
CREATED:20250425T133657Z
LAST-MODIFIED:20250425T133849Z
UID:8342-1760140800-1760227199@invalsesia.conmonica.it
SUMMARY:Escursione all'Alpe Vallè di Rima: antiche dimore
DESCRIPTION:Vivi il Millennio di Varallo: ritorno al Medioevo\nLa ricca catena di escursioni proposta in occasione del Millennio termina in uno dei luoghi più caratteristici e coinvolgenti: la Val Sermenza. Qui\, tra bellissimi colori autunnali\, la nostra esperienza attraverso gli alpeggi e le vallate valsesiane si addentra verso l’Alpe Lavazei e l’Alpe Vallè. L’Alpe Lavazei viene nominato già verso il 1083 tra i possedimenti dei monaci dell’abazia di san Pietro di Castelletto\, dipendente dal monastero di Cluny. L’Alpe Vallè è noto per la presenza di massi incisi e le “antiche dimore”\, testimoni di un tempo in cui l’uomo raggiungeva questi luoghi a fini cultuali.\nImmagina di poter tornare indietro nel tempo\, quando la Valsesia era ancora una fitta foresta poco esplorata e senza villaggi. Immagina di poter viaggiare nei racconti che ancora si sprigionano dai luoghi e dalle storie  di personaggi poco conosciuti e misteriosi. È quello che accadrà grazie allo straordinario ciclo di visite ed escursioni dedicate alla Valsesia in occasione del Millennio di Varallo\, itinerari tematici nel solco di un periodo compreso tra l’XI e l’inizio del XIV secolo. Un tema che legherà il territorio e darà luce ad alcune pagine poco conosciute della vita tra le valli a sud del Monte Rosa. \nL’evento propone\n– escursione guidata in uno degli alpeggi più antichi della Valsesia\, che conserva tracce primordiali\n– storie\, aneddoti\, curiosità \nSCOPRI QUI TUTTO IL PROGRAMMA\ne prenota la visita!
URL:https://invalsesia.conmonica.it/evento/escursione-allalpe-valle-rima/
LOCATION:Rima\, Rima\, AltoSermenza\, 13029\, Italy
ATTACH;FMTTYPE=image/jpeg:https://invalsesia.conmonica.it/wp-content/uploads/2025/02/Rima-4.jpg
ORGANIZER;CN="Invalsesia con Monica":MAILTO:invalsesia.conmonica@gmail.com
END:VEVENT
BEGIN:VEVENT
DTSTART;VALUE=DATE:20251018
DTEND;VALUE=DATE:20251019
DTSTAMP:20260423T102549
CREATED:20250425T131505Z
LAST-MODIFIED:20250425T131908Z
UID:8326-1760745600-1760831999@invalsesia.conmonica.it
SUMMARY:La Rocca\, fortezze e misteri a Varallo
DESCRIPTION:Vivi il Millennio di Varallo: ritorno al Medioevo\nRoccapietra: un nome che evoca storie medievali\, leggende\, castelli\, rocce e montagne inespugnabili… E infatti\, la Rocca è una degli indiscussi protagonisti dell’evento del Millennio\, testimone dell’esistenza stessa del borgo di Varallo con tutta l’area limitrofa. Roccapietra\, ameno villaggio oggi frazione di Varallo\, viene citata insieme a Varallo nel diploma stilato a Costanza il 10 giugno 1025 dall’imperatore Corrado II il Salico in riferimento al castello costruito da Uberto I di Biandrate. Con l’itinerario dedicato alla “Rocca” andremo alla (ri)scoperta dei ruderi di antiche fortificazioni\, dei luoghi più antichi e caratteristici del borgo e\, al termine\, saliremo al confine più prossimo con Varallo per visitare la chiesa della Madonna di Loreto\, nell’area detta “delle Termopili” valsesiane.\nImmagina di poter tornare indietro nel tempo\, quando la Valsesia era ancora una fitta foresta poco esplorata e quasi senza villaggi. Immagina di poter viaggiare nei racconti che ancora si sprigionano dai luoghi e dalle storie  di personaggi poco conosciuti e\, a volte\, misteriosi.\nÈ quello che accadrà grazie allo straordinario evento dedicato al Millennio di Varallo\, un percorso di visita che ci condurrà tra i meandri di una storia mai così lontana\, mai così bella da scoprire. \nL’evento propone\n– visita guidata a tema medievale a Roccapietra tra le contrade\n– escursione sui ruderi dell’ex Castello Barbavara\n– ingresso nella bottega di Scapini artigianali valsesiani (esclusiva inValsesia) \nSCOPRI QUI TUTTO IL PROGRAMMA\ne prenota la visita!
URL:https://invalsesia.conmonica.it/evento/la-rocca-fortezze-e-misteri-a-varallo/
LOCATION:Varallo\, piazza Vittorio Emanuele II\, VARALLO\, VC\, 13019\, Italy
ATTACH;FMTTYPE=image/jpeg:https://invalsesia.conmonica.it/wp-content/uploads/2025/04/346465962_6243830732344934_7220908613775601251_n.jpg
ORGANIZER;CN="Invalsesia con Monica":MAILTO:invalsesia.conmonica@gmail.com
END:VEVENT
END:VCALENDAR