BEGIN:VCALENDAR
VERSION:2.0
PRODID:-//Invalsesia con Monica - ECPv6.15.20//NONSGML v1.0//EN
CALSCALE:GREGORIAN
METHOD:PUBLISH
X-ORIGINAL-URL:https://invalsesia.conmonica.it
X-WR-CALDESC:Eventi per Invalsesia con Monica
REFRESH-INTERVAL;VALUE=DURATION:PT1H
X-Robots-Tag:noindex
X-PUBLISHED-TTL:PT1H
BEGIN:VTIMEZONE
TZID:Europe/Rome
BEGIN:DAYLIGHT
TZOFFSETFROM:+0100
TZOFFSETTO:+0200
TZNAME:CEST
DTSTART:20240331T010000
END:DAYLIGHT
BEGIN:STANDARD
TZOFFSETFROM:+0200
TZOFFSETTO:+0100
TZNAME:CET
DTSTART:20241027T010000
END:STANDARD
BEGIN:DAYLIGHT
TZOFFSETFROM:+0100
TZOFFSETTO:+0200
TZNAME:CEST
DTSTART:20250330T010000
END:DAYLIGHT
BEGIN:STANDARD
TZOFFSETFROM:+0200
TZOFFSETTO:+0100
TZNAME:CET
DTSTART:20251026T010000
END:STANDARD
BEGIN:DAYLIGHT
TZOFFSETFROM:+0100
TZOFFSETTO:+0200
TZNAME:CEST
DTSTART:20260329T010000
END:DAYLIGHT
BEGIN:STANDARD
TZOFFSETFROM:+0200
TZOFFSETTO:+0100
TZNAME:CET
DTSTART:20261025T010000
END:STANDARD
END:VTIMEZONE
BEGIN:VEVENT
DTSTART;VALUE=DATE:20250914
DTEND;VALUE=DATE:20250915
DTSTAMP:20260423T114454
CREATED:20250424T085246Z
LAST-MODIFIED:20250424T085518Z
UID:8251-1757808000-1757894399@invalsesia.conmonica.it
SUMMARY:Tour dei castelli valsesiani - 2
DESCRIPTION:Vivi il Millennio di Varallo: ritorno al Medioevo\nUna mastodontica catena difensiva fu costruita tra l’XI e il XIII secolo per proteggere i possedimenti dei Conti di Biandrate durante le guerre\, gli assedi e le rappresaglie che contrapposero\, per due secoli\, le città di Novara e Vercelli. Nello stesso periodo sorsero alcuni Borghifranchi dotati di mura e fossati (come Gattinara\, Borgosesia) pensati per essere meglio difendibili e dispensare ai cittadini autonomie e sgravi fiscali. La linea difensiva correva dall’area di Cellio-Valduggia a Roccapietra. Con questo itinerario si potrà sapere di più di alcuni di questi luoghi e delle dinamiche che hanno caratterizzato quel periodo.\nImmagina di poter tornare indietro nel tempo\, quando la Valsesia era ancora una fitta foresta poco esplorata e quasi senza villaggi.\nImmagina di poter viaggiare nei racconti che ancora si sprigionano dai luoghi e dalle storie  di personaggi poco conosciuti e misteriosi.\nÈ quello che accadrà grazie allo straordinario ciclo di visite ed escursioni dedicate alla Valsesia in occasione del Millennio di Varallo\, itinerari tematici nel solco di un periodo compreso tra l’XI e l’inizio del XIV secolo. Un tema che legherà il territorio e darà luce ad alcune pagine poco conosciute della vita tra le valli a sud del Monte Rosa. \nL’evento propone\n– visita e escursione guidata sui resti di un sito seriale incastellato\n– storie\, aneddoti\, curiosità \nSCOPRI QUI TUTTO IL PROGRAMMA\ne prenota la visita!
URL:https://invalsesia.conmonica.it/evento/tour-dei-castelli-valsesiani-2/
LOCATION:Prato Sesia\, via fra dolcino\, Prato Sesia\, 28077\, Italy
ATTACH;FMTTYPE=image/jpeg:https://invalsesia.conmonica.it/wp-content/uploads/2025/04/freepik__expand__89568-1.jpg
ORGANIZER;CN="Invalsesia con Monica":MAILTO:invalsesia.conmonica@gmail.com
END:VEVENT
BEGIN:VEVENT
DTSTART;VALUE=DATE:20250920
DTEND;VALUE=DATE:20250921
DTSTAMP:20260423T114454
CREATED:20250424T091330Z
LAST-MODIFIED:20250424T091330Z
UID:8262-1758326400-1758412799@invalsesia.conmonica.it
SUMMARY:Escursione del Millennio a Otro\, alle origini di Alagna
DESCRIPTION:Vivi il Millennio di Varallo: ritorno al Medioevo\nUn diploma stilato a Costanza il 10 giugno 1025 dall’imperatore Corrado II il Salico tratteggia la presenza dei primi villaggi  e dei primi alpeggi in Valsesia nei secoli del Medioevo. Il documento concede al Vescovo di Novara alcuni possedimenti: l’alpeggio di Otro\, in Alagna; il Pontem de Varade\, il ponte situato nel centro di Varallo; la Rocca\, Roccapietra (oggi frazione di Varallo) – assegnati poi ai Conti di Pombia e\, in seguito\, ai Conti di Biandrate in qualità di signori feudali. Questo prezioso documento conferma l’esistenza di luoghi antropizzati già da lungo tempo e\, spesso\, affidati alle cure di importanti monasteri e abbazie\, come nel caso di Otro.\nImmagina di poter tornare indietro nel tempo\, quando la Valsesia era ancora una fitta foresta poco esplorata e quasi senza villaggi.\nImmagina di poter viaggiare nei racconti che ancora si sprigionano dai luoghi e dalle storie  di personaggi poco conosciuti e misteriosi.\nÈ quello che accadrà grazie allo straordinario ciclo di visite ed escursioni dedicate alla Valsesia in occasione del Millennio di Varallo\, itinerari tematici nel solco di un periodo compreso tra l’XI e l’inizio del XIV secolo. Un tema che legherà il territorio e darà luce ad alcune pagine poco conosciute della vita tra le valli a sud del Monte Rosa. \nL’evento propone\n– escursione guidata a tema medievale in uno degli alpeggi più antichi e amati di Alagna\n– storie\, aneddoti\, curiosità \nSCOPRI QUI TUTTO IL PROGRAMMA\ne prenota la visita!
URL:https://invalsesia.conmonica.it/evento/escursione-del-millennio-a-otro-alle-origini-di-alagna/
LOCATION:Alagna\, via delle miniere\, Alagna\, 13020\, Italy
ATTACH;FMTTYPE=image/jpeg:https://invalsesia.conmonica.it/wp-content/uploads/2025/02/Val-dOtro.jpg
ORGANIZER;CN="Invalsesia con Monica":MAILTO:invalsesia.conmonica@gmail.com
END:VEVENT
BEGIN:VEVENT
DTSTART;VALUE=DATE:20250927
DTEND;VALUE=DATE:20250928
DTSTAMP:20260423T114454
CREATED:20250425T133236Z
LAST-MODIFIED:20250425T133404Z
UID:8339-1758931200-1759017599@invalsesia.conmonica.it
SUMMARY:Escursione a Rimella\, l'antica Rodunda
DESCRIPTION:Vivi il Millennio di Varallo: ritorno al Medioevo\nRimella evoca\, già nel suo nome\, tutta la più antica storia degli alpeggi valsesiani. Si trova alla testa dell’aspra\, fiera e silente Val Mastallone e viene citata per la prima volta\, nei documenti\, attraverso uno dei suoi Alpeggi\, Rondo\, nel 1011. La pergamena di Gualberto da Gozzano è importante anche per la segnalazione di alpeggi confinanti e appartenenti al monastero di Arona e al capitolo di san Giulio di Orta. L’escursione proporrà l’avvicinamento a questo antico Alpeggio ma\, per ragioni logistiche e di godibilità\, creerà un percorso ad anello passando dalla più nota san Gottardo per inoltrarsi fino a Rondecca.\nImmagina di poter tornare indietro nel tempo\, quando la Valsesia era ancora una fitta foresta poco esplorata e senza villaggi.\nImmagina di poter viaggiare nei racconti che ancora si sprigionano dai luoghi e dalle storie  di personaggi poco conosciuti e misteriosi.\nÈ quello che accadrà grazie allo straordinario ciclo di visite ed escursioni dedicate alla Valsesia in occasione del Millennio di Varallo\, itinerari tematici nel solco di un periodo compreso tra l’XI e l’inizio del XIV secolo. Un tema che legherà il territorio e darà luce ad alcune pagine poco conosciute della vita tra le valli a sud del Monte Rosa. \nL’evento propone\n– escursione guidata verso uno degli alpeggi più antichi della Valsesia\n– storie\, aneddoti\, curiosità \nSCOPRI QUI TUTTO IL PROGRAMMA\ne prenota la visita!
URL:https://invalsesia.conmonica.it/evento/escursione-all-antica-alpe-rodunda/
LOCATION:Rimella\, frazione Chiesa\, Rimella\, 13020\, Italy
ATTACH;FMTTYPE=image/jpeg:https://invalsesia.conmonica.it/wp-content/uploads/2025/02/Rimella-4.jpg
ORGANIZER;CN="Invalsesia con Monica":MAILTO:invalsesia.conmonica@gmail.com
END:VEVENT
END:VCALENDAR