BEGIN:VCALENDAR
VERSION:2.0
PRODID:-//Invalsesia con Monica - ECPv6.15.20//NONSGML v1.0//EN
CALSCALE:GREGORIAN
METHOD:PUBLISH
X-ORIGINAL-URL:https://invalsesia.conmonica.it
X-WR-CALDESC:Eventi per Invalsesia con Monica
REFRESH-INTERVAL;VALUE=DURATION:PT1H
X-Robots-Tag:noindex
X-PUBLISHED-TTL:PT1H
BEGIN:VTIMEZONE
TZID:Europe/Rome
BEGIN:DAYLIGHT
TZOFFSETFROM:+0100
TZOFFSETTO:+0200
TZNAME:CEST
DTSTART:20240331T010000
END:DAYLIGHT
BEGIN:STANDARD
TZOFFSETFROM:+0200
TZOFFSETTO:+0100
TZNAME:CET
DTSTART:20241027T010000
END:STANDARD
BEGIN:DAYLIGHT
TZOFFSETFROM:+0100
TZOFFSETTO:+0200
TZNAME:CEST
DTSTART:20250330T010000
END:DAYLIGHT
BEGIN:STANDARD
TZOFFSETFROM:+0200
TZOFFSETTO:+0100
TZNAME:CET
DTSTART:20251026T010000
END:STANDARD
BEGIN:DAYLIGHT
TZOFFSETFROM:+0100
TZOFFSETTO:+0200
TZNAME:CEST
DTSTART:20260329T010000
END:DAYLIGHT
BEGIN:STANDARD
TZOFFSETFROM:+0200
TZOFFSETTO:+0100
TZNAME:CET
DTSTART:20261025T010000
END:STANDARD
END:VTIMEZONE
BEGIN:VEVENT
DTSTART;VALUE=DATE:20250501
DTEND;VALUE=DATE:20250502
DTSTAMP:20260423T172248
CREATED:20250424T072322Z
LAST-MODIFIED:20250424T072459Z
UID:8243-1746057600-1746143999@invalsesia.conmonica.it
SUMMARY:Escursione alla Res di Varallo (Bec d'Ovaga)
DESCRIPTION:Vivi il Millennio di Varallo: ritorno al Medioevo\nImmagina di poter tornare indietro nel tempo\, quando la Valsesia era ancora una fitta foresta poco esplorata e quasi senza villaggi. Immagina di poter viaggiare nei racconti che ancora si sprigionano dai luoghi e dalle storie  di personaggi poco conosciuti e misteriosi.\nÈ quello che accadrà grazie allo straordinario evento dedicato al Millennio di Varallo\, un percorso di visita in una Varallo che sembra non esserci più e che\, invece\, è rimasta incastonata nelle pietre del suo ponte\, tra le acque turbolenti del Mastallone\, e si può ancora osservare e ascoltare.\nUn diploma stilato a Costanza il 10 giugno 1025 dall’imperatore Corrado II il Salico inizia a rischiarare le nubi sulla storia antica dei villaggi in Valsesia nei secoli del Medioevo. Il documento concede al Vescovo di Novara alcuni possedimenti: l’alpeggio di Otro\, in Alagna; il Pontem de Varade\, il ponte situato nel centro di Varallo; la Rocca\, Roccapietra (oggi frazione di Varallo) – assegnati poi ai Conti di Pombia e\, in seguito\, ai Conti di Biandrate in qualità di signori feudali. Questo prezioso documento conferma l’esistenza del borgo di Varallo che\, insieme al suo Ponte\, importantissimo crocevia di comunicazione e commercio\, è certamente più antico. \nL’evento propone\n– visita guidata a tema medievale tra le contrade\, le botteghe e il Ponte\n– merenda finale con speciale “Miaccia del Millennio” \nSCOPRI QUI TUTTO IL PROGRAMMA\ne prenota la visita!
URL:https://invalsesia.conmonica.it/evento/escursione-alla-res-di-varallo-bec-d-ovaga/
LOCATION:Varallo\, piazza Vittorio Emanuele II\, VARALLO\, VC\, 13019\, Italy
ATTACH;FMTTYPE=image/jpeg:https://invalsesia.conmonica.it/wp-content/uploads/2025/02/Alpe-La-Res-4.jpg
ORGANIZER;CN="Invalsesia con Monica":MAILTO:invalsesia.conmonica@gmail.com
END:VEVENT
BEGIN:VEVENT
DTSTART;VALUE=DATE:20250525
DTEND;VALUE=DATE:20250526
DTSTAMP:20260423T172248
CREATED:20250425T051716Z
LAST-MODIFIED:20250425T052053Z
UID:8309-1748131200-1748217599@invalsesia.conmonica.it
SUMMARY:VALSESIA G-DAY
DESCRIPTION:Prima edizione del “VALSESIA G-DAY una giornata con le Guide”\nCampertogno – Visite guidate\, escursioni e attività per turisti\, gruppi e famiglie alla scoperta di Campertogno! Vivi le tante opportunità che può offrire Campertogno grazie agli accompagnamenti di Guide Turistiche\, Guide Escursionistiche Ambientali e Accompagnatori cicloturistici regolarmente abilitati all’esercizio della professione (Legge n.190/2023 – Legge n.6/1989 – Lr 33/2001). Tutte le attività si svolgono dalle ore 10.00 alle ore 17.00 in maniera continua secondo turni che variano da mezz’ora a 1 ora.\nTutte le attività sono ad offerta libera per i restauri della cappella di santa Cristina alle Maggenche. \nL’evento propone\n– la scoperta di Campertogno con tutte le tipologie di attività di visita guidata e attività outdoor\n– mappa del paese con percorso guidato\n– diretta dell’evento con Radio Valsesia\n– Apericena finale al santuario del Callone offerto dalla Pro Loco di Campertogno \nSCOPRI QUI TUTTO IL PROGRAMMA\ne partecipa a questa straordinaria giornata!
URL:https://invalsesia.conmonica.it/evento/valsesia-g-day/
LOCATION:Campertogno\, piazza Pier Celestino Gilardi\, Campertogno\, 13023
ATTACH;FMTTYPE=image/jpeg:https://invalsesia.conmonica.it/wp-content/uploads/2025/04/1-Valsesia-GDAY-1-scaled.jpeg
ORGANIZER;CN="Invalsesia con Monica":MAILTO:invalsesia.conmonica@gmail.com
END:VEVENT
BEGIN:VEVENT
DTSTART;VALUE=DATE:20250531
DTEND;VALUE=DATE:20250601
DTSTAMP:20260423T172248
CREATED:20250425T130256Z
LAST-MODIFIED:20250425T130635Z
UID:8317-1748649600-1748735999@invalsesia.conmonica.it
SUMMARY:Tra Grignasco e il Monte Fenera
DESCRIPTION:Vivi il Millennio di Varallo: ritorno al Medioevo\nLà dove un tempo un antico lago di derivazione glaciale lambiva l’imbocco della Valsesia nacque\, in tempi antichissimi\, Grignasco. L’insediamento crebbe e acquisì importanza molto rapidamente tanto che dalla sua Pieve dipenderà\, per molto tempo\, quella di Romagnano. nei documenti l’antica “plebs grinassi” viene citata sin dal 7 maggio 999\, anno nel quale l’imperatore Ottone III ne fa dono al vescovo di Vercelli\, Luituardo\, con la comunità di Bornate. Esiste\, però\, la teoria secondo la quale possa essere individuata in Grignasco l’Agrina Syllani nominata all’interno delle Tavole di Traiano. Purtroppo di quell’epoca non restano che tracce\, oggi.\nImmagina di poter tornare indietro nel tempo\, quando la Valsesia era ancora una fitta foresta poco esplorata e quasi senza villaggi.\nImmagina di poter viaggiare nei racconti che ancora si sprigionano dai luoghi e dalle storie  di personaggi poco conosciuti e misteriosi.\nÈ quello che accadrà grazie allo straordinario ciclo di visite ed escursioni dedicate alla Valsesia in occasione del Millennio di Varallo\, itinerari tematici nel solco di un periodo compreso tra l’XI e l’inizio del XIV secolo. Un tema che legherà il territorio e darà luce ad alcune pagine poco conosciute della vita tra le valli a sud del Monte Rosa. \nL’evento propone\n– visita guidata a tema medievale a Grignasco\n– breve escursione fino al suggestivo sito delle Grotte di Ara\n– storie\, aneddoti e curiosità \nSCOPRI QUI TUTTO IL PROGRAMMA\ne prenota la visita!
URL:https://invalsesia.conmonica.it/evento/ad-999-ottone-iii-nomina-grignasco/
LOCATION:Grignasco\, bovagliano\, Grignasco\, 28075\, Italy
ATTACH;FMTTYPE=image/jpeg:https://invalsesia.conmonica.it/wp-content/uploads/2025/02/Grignasco-4.jpg
ORGANIZER;CN="Invalsesia con Monica":MAILTO:invalsesia.conmonica@gmail.com
END:VEVENT
END:VCALENDAR