BEGIN:VCALENDAR
VERSION:2.0
PRODID:-//Invalsesia con Monica - ECPv6.15.20//NONSGML v1.0//EN
CALSCALE:GREGORIAN
METHOD:PUBLISH
X-WR-CALNAME:Invalsesia con Monica
X-ORIGINAL-URL:https://invalsesia.conmonica.it
X-WR-CALDESC:Eventi per Invalsesia con Monica
REFRESH-INTERVAL;VALUE=DURATION:PT1H
X-Robots-Tag:noindex
X-PUBLISHED-TTL:PT1H
BEGIN:VTIMEZONE
TZID:Europe/Rome
BEGIN:DAYLIGHT
TZOFFSETFROM:+0100
TZOFFSETTO:+0200
TZNAME:CEST
DTSTART:20240331T010000
END:DAYLIGHT
BEGIN:STANDARD
TZOFFSETFROM:+0200
TZOFFSETTO:+0100
TZNAME:CET
DTSTART:20241027T010000
END:STANDARD
BEGIN:DAYLIGHT
TZOFFSETFROM:+0100
TZOFFSETTO:+0200
TZNAME:CEST
DTSTART:20250330T010000
END:DAYLIGHT
BEGIN:STANDARD
TZOFFSETFROM:+0200
TZOFFSETTO:+0100
TZNAME:CET
DTSTART:20251026T010000
END:STANDARD
BEGIN:DAYLIGHT
TZOFFSETFROM:+0100
TZOFFSETTO:+0200
TZNAME:CEST
DTSTART:20260329T010000
END:DAYLIGHT
BEGIN:STANDARD
TZOFFSETFROM:+0200
TZOFFSETTO:+0100
TZNAME:CET
DTSTART:20261025T010000
END:STANDARD
END:VTIMEZONE
BEGIN:VEVENT
DTSTART;VALUE=DATE:20250426
DTEND;VALUE=DATE:20250427
DTSTAMP:20260423T184413
CREATED:20250424T121112Z
LAST-MODIFIED:20250424T121350Z
UID:8277-1745625600-1745711999@invalsesia.conmonica.it
SUMMARY:Escursione a Scopa\, antica comunità valsesiana
DESCRIPTION:Vivi il Millennio di Varallo: ritorno al Medioevo\nScopa è un borgo soleggiato situato in uno ampio vallone di origine alluvionale e ha sempre ricoperto un ruolo importante nella storia della Valsesia. Attraverso l’itinerario tematico dedicato alle “Antiche comunità” valsesiane affronteremo un percorso ad anello immerso nella natura rigogliosa per conoscere gli angoli più nascosti e suggestivi del paese.\nNel pomeriggio\, dopo la pausa pranzo organizzata dalla Pro Loco di Scopa\, ci sarà la visita al Museo Etnografico Rumanel e in esclusiva\, per la prima volta\, i partecipanti potranno visitare la prigione\, la ghiacciaia e il forno che si trovano nei sotterranei del Municipio.\nImmagina di poter tornare indietro nel tempo\, quando la Valsesia era ancora una fitta foresta poco esplorata e quasi senza villaggi.\nImmagina di poter viaggiare nei racconti che ancora si sprigionano dai luoghi e dalle storie  di personaggi poco conosciuti e misteriosi.\nÈ quello che accadrà grazie allo straordinario ciclo di visite ed escursioni dedicate alla Valsesia in occasione del Millennio di Varallo\, itinerari tematici nel solco di un periodo compreso tra l’XI e l’inizio del XIV secolo. Un tema che legherà il territorio e darà luce ad alcune pagine poco conosciute della vita tra le valli a sud del Monte Rosa. \nL’evento propone\n– escursione guidata ad anello in un percorso immerso nella natura\n– storie\, aneddoti\, curiosità \nSCOPRI QUI TUTTO IL PROGRAMMA\ne prenota la visita!
URL:https://invalsesia.conmonica.it/evento/escursione-a-scopa-antica-comunita-valsesiana/
LOCATION:Scopa\, piazza del Municipio\, Scopa\, 13027
ATTACH;FMTTYPE=image/jpeg:https://invalsesia.conmonica.it/wp-content/uploads/2025/02/scopa.jpg
ORGANIZER;CN="Invalsesia con Monica":MAILTO:invalsesia.conmonica@gmail.com
END:VEVENT
BEGIN:VEVENT
DTSTART;VALUE=DATE:20250427
DTEND;VALUE=DATE:20250428
DTSTAMP:20260423T184413
CREATED:20250424T072902Z
LAST-MODIFIED:20250424T073145Z
UID:8246-1745712000-1745798399@invalsesia.conmonica.it
SUMMARY:Tour dei castelli valsesiani - 1
DESCRIPTION:Vivi il Millennio di Varallo: ritorno al Medioevo\nUna mastodontica catena difensiva fu costruita tra l’XI e il XIII secolo per proteggere i possedimenti dei Conti di Biandrate durante le guerre\, gli assedi e le rappresaglie che contrapposero\, per due secoli\, le città di Novara e Vercelli. Nello stesso periodo sorsero alcuni Borghifranchi dotati di mura e fossati (come Gattinara\, Borgosesia) pensati per essere meglio difendibili e dispensare ai cittadini autonomie e sgravi fiscali. La linea difensiva correva dall’area di Cellio-Valduggia a Roccapietra. Con questo itinerario si potrà sapere di più di alcuni di questi luoghi e delle dinamiche che hanno caratterizzato quel periodo.\nImmagina di poter tornare indietro nel tempo\, quando la Valsesia era ancora una fitta foresta poco esplorata e quasi senza villaggi.\nImmagina di poter viaggiare nei racconti che ancora si sprigionano dai luoghi e dalle storie  di personaggi poco conosciuti e misteriosi.\nÈ quello che accadrà grazie allo straordinario ciclo di visite ed escursioni dedicate alla Valsesia in occasione del Millennio di Varallo\, itinerari tematici nel solco di un periodo compreso tra l’XI e l’inizio del XIV secolo. Un tema che legherà il territorio e darà luce ad alcune pagine poco conosciute della vita tra le valli a sud del Monte Rosa. \nL’evento propone\n– visita e escursione guidata sui resti di un sito seriale incastellato\n– storie\, aneddoti\, curiosità \nSCOPRI QUI TUTTO IL PROGRAMMA\ne prenota la visita!
URL:https://invalsesia.conmonica.it/evento/tour-dei-castelli-valsesiani-1/
LOCATION:Gattinara\, castelle\, Gattinara\, 13045\, Italy
ATTACH;FMTTYPE=image/jpeg:https://invalsesia.conmonica.it/wp-content/uploads/2025/02/Castello-di-Vintebbio.jpg
ORGANIZER;CN="Invalsesia con Monica":MAILTO:invalsesia.conmonica@gmail.com
END:VEVENT
END:VCALENDAR