BEGIN:VCALENDAR
VERSION:2.0
PRODID:-//Invalsesia con Monica - ECPv6.15.20//NONSGML v1.0//EN
CALSCALE:GREGORIAN
METHOD:PUBLISH
X-ORIGINAL-URL:https://invalsesia.conmonica.it
X-WR-CALDESC:Eventi per Invalsesia con Monica
REFRESH-INTERVAL;VALUE=DURATION:PT1H
X-Robots-Tag:noindex
X-PUBLISHED-TTL:PT1H
BEGIN:VTIMEZONE
TZID:Europe/Rome
BEGIN:DAYLIGHT
TZOFFSETFROM:+0100
TZOFFSETTO:+0200
TZNAME:CEST
DTSTART:20240331T010000
END:DAYLIGHT
BEGIN:STANDARD
TZOFFSETFROM:+0200
TZOFFSETTO:+0100
TZNAME:CET
DTSTART:20241027T010000
END:STANDARD
BEGIN:DAYLIGHT
TZOFFSETFROM:+0100
TZOFFSETTO:+0200
TZNAME:CEST
DTSTART:20250330T010000
END:DAYLIGHT
BEGIN:STANDARD
TZOFFSETFROM:+0200
TZOFFSETTO:+0100
TZNAME:CET
DTSTART:20251026T010000
END:STANDARD
BEGIN:DAYLIGHT
TZOFFSETFROM:+0100
TZOFFSETTO:+0200
TZNAME:CEST
DTSTART:20260329T010000
END:DAYLIGHT
BEGIN:STANDARD
TZOFFSETFROM:+0200
TZOFFSETTO:+0100
TZNAME:CET
DTSTART:20261025T010000
END:STANDARD
END:VTIMEZONE
BEGIN:VEVENT
DTSTART;VALUE=DATE:20250517
DTEND;VALUE=DATE:20250518
DTSTAMP:20260423T170558
CREATED:20250424T123557Z
LAST-MODIFIED:20250424T123658Z
UID:8294-1747440000-1747526399@invalsesia.conmonica.it
SUMMARY:Il confine incastellato della Valsesia: il Borgo di Seso
DESCRIPTION:Vivi il Millennio di Varallo: ritorno al Medioevo\nBorgosesia è da sempre considerata confine naturale della Valsesia. Si trovava qui\, infatti\, l’antico ponte di san Quirico (scomparso) che segnava l’ingresso nella valle. Nel Medioevo la sua storia si lega a quella dei Conti di Biandrate che decisero per la fortificazione della “strada biandrina”\, dalla pianura verso la valle. Nell’area di Borgosesia sorsero castelli a Robiallo\, Montrigone\, Vanzone\, Agnona\, e Aranco. Con la caduta dei Conti e il passaggio della Valsesia ai Duchi di Milano (ca. 1317) sarà tutto distrutto\, anche se si conserva ancora traccia di alcuni di questi luoghi fortificati.\nImmagina di poter tornare indietro nel tempo\, quando la Valsesia era ancora una fitta foresta poco esplorata e quasi senza villaggi.\nImmagina di poter viaggiare nei racconti che ancora si sprigionano dai luoghi e dalle storie  di personaggi poco conosciuti e misteriosi.\nÈ quello che accadrà grazie allo straordinario ciclo di visite ed escursioni dedicate alla Valsesia in occasione del Millennio di Varallo\, itinerari tematici nel solco di un periodo compreso tra l’XI e l’inizio del XIV secolo. Un tema che legherà il territorio e darà luce ad alcune pagine poco conosciute della vita tra le valli a sud del Monte Rosa. \nL’evento propone\n– visita guidata a Borgosesia\n– breve escursione al colle di santa Maria\n– storie\, aneddoti\, curiosità\n– partecipazione degli “amici dell’affresco di san Gregorio” \nSCOPRI QUI TUTTO IL PROGRAMMA\ne prenota la visita!
URL:https://invalsesia.conmonica.it/evento/il-borgo-di-seso-e-il-castello-di-vanzone/
LOCATION:Borgosesia\, viale varallo\, Borgosesia\, 13011\, Italy
ATTACH;FMTTYPE=image/jpeg:https://invalsesia.conmonica.it/wp-content/uploads/2025/02/DJI_0001.jpg
ORGANIZER;CN="Invalsesia con Monica":MAILTO:invalsesia.conmonica@gmail.com
END:VEVENT
END:VCALENDAR